BEGIN:VCALENDAR
VERSION:2.0
PRODID:-//Bruce E. Mowday - ECPv6.15.15//NONSGML v1.0//EN
CALSCALE:GREGORIAN
METHOD:PUBLISH
X-WR-CALNAME:Bruce E. Mowday
X-ORIGINAL-URL:https://mowday.com
X-WR-CALDESC:Events for Bruce E. Mowday
REFRESH-INTERVAL;VALUE=DURATION:PT1H
X-Robots-Tag:noindex
X-PUBLISHED-TTL:PT1H
BEGIN:VTIMEZONE
TZID:America/New_York
BEGIN:DAYLIGHT
TZOFFSETFROM:-0500
TZOFFSETTO:-0400
TZNAME:EDT
DTSTART:20170312T070000
END:DAYLIGHT
BEGIN:STANDARD
TZOFFSETFROM:-0400
TZOFFSETTO:-0500
TZNAME:EST
DTSTART:20171105T060000
END:STANDARD
BEGIN:DAYLIGHT
TZOFFSETFROM:-0500
TZOFFSETTO:-0400
TZNAME:EDT
DTSTART:20180311T070000
END:DAYLIGHT
BEGIN:STANDARD
TZOFFSETFROM:-0400
TZOFFSETTO:-0500
TZNAME:EST
DTSTART:20181104T060000
END:STANDARD
BEGIN:DAYLIGHT
TZOFFSETFROM:-0500
TZOFFSETTO:-0400
TZNAME:EDT
DTSTART:20190310T070000
END:DAYLIGHT
BEGIN:STANDARD
TZOFFSETFROM:-0400
TZOFFSETTO:-0500
TZNAME:EST
DTSTART:20191103T060000
END:STANDARD
END:VTIMEZONE
BEGIN:VEVENT
DTSTART;TZID=America/New_York:20180909T130000
DTEND;TZID=America/New_York:20180909T160000
DTSTAMP:20260421T043340
CREATED:20180807T121410Z
LAST-MODIFIED:20180807T121410Z
UID:940-1536498000-1536508800@mowday.com
SUMMARY:Bruce Mowday signs books at Kennett Square Mushroom Festival
DESCRIPTION:
URL:https://mowday.com/event/bruce-mowday-signs-books-at-kennett-square-mushroom-festival/
LOCATION:Kennett Square Resale Book Shoppe\, 113 South Union Street\, Kennett Square\, PA\, United States
END:VEVENT
BEGIN:VEVENT
DTSTART;TZID=America/New_York:20180910T190000
DTEND;TZID=America/New_York:20180910T210000
DTSTAMP:20260421T043340
CREATED:20180511T183549Z
LAST-MODIFIED:20180511T183549Z
UID:787-1536606000-1536613200@mowday.com
SUMMARY:Mowday to talk about publishing to Wilmington Chadds Ford Writers group
DESCRIPTION:
URL:https://mowday.com/event/mowday-talk-publishing-wilmington-chadds-ford-writers-group/
LOCATION:McKenzie’s Brew House\, 240 Lancaster Avenue\, Malvern\, PA\, 19355\, United States
END:VEVENT
BEGIN:VEVENT
DTSTART;TZID=America/New_York:20180911T190000
DTEND;TZID=America/New_York:20180911T210000
DTSTAMP:20260421T043340
CREATED:20180802T113430Z
LAST-MODIFIED:20180802T113430Z
UID:933-1536692400-1536699600@mowday.com
SUMMARY:Mowday takes part in September 11 historical discussion
DESCRIPTION:
URL:https://mowday.com/event/mowday-takes-part-in-september-11-historical-discussion/
LOCATION:Barnes & Noble\, Exton\, 301 Main St\, Exton\, PA\, 19341\, United States
END:VEVENT
BEGIN:VEVENT
DTSTART;TZID=America/New_York:20180917T190000
DTEND;TZID=America/New_York:20180917T210000
DTSTAMP:20260421T043340
CREATED:20180511T183848Z
LAST-MODIFIED:20180511T183848Z
UID:790-1537210800-1537218000@mowday.com
SUMMARY:Mowday to talk about book marketing to Main Line Writers group
DESCRIPTION:
URL:https://mowday.com/event/mowday-talk-book-marketing-main-line-writers-group/
LOCATION:PA
END:VEVENT
BEGIN:VEVENT
DTSTART;TZID=America/New_York:20180922T110000
DTEND;TZID=America/New_York:20180922T160000
DTSTAMP:20260421T043340
CREATED:20180604T143412Z
LAST-MODIFIED:20180604T143412Z
UID:845-1537614000-1537632000@mowday.com
SUMMARY:Mowday signs books during 6th annual Paoli Heritage Day
DESCRIPTION:
URL:https://mowday.com/event/mowday-signs-books-during-6th-annual-paoli-heritage-day/
LOCATION:Paoli Battlefield\, Monument and Wayne Avenues\, Malvern\, PA\, United States
END:VEVENT
BEGIN:VEVENT
DTSTART;TZID=America/New_York:20180930T110000
DTEND;TZID=America/New_York:20180930T160000
DTSTAMP:20260421T043340
CREATED:20180227T133604Z
LAST-MODIFIED:20180227T133604Z
UID:684-1538305200-1538323200@mowday.com
SUMMARY:Bruce Mowday signs at Downingtown FallFest
DESCRIPTION:
URL:https://mowday.com/event/bruce-mowday-signs-downingtown-fallfest/
LOCATION:Downingtown FallFest\, Green Street\, Downingtown\, PA\, 19335\, United States
END:VEVENT
END:VCALENDAR