BEGIN:VCALENDAR
VERSION:2.0
PRODID:-//Bruce E. Mowday - ECPv6.15.15//NONSGML v1.0//EN
CALSCALE:GREGORIAN
METHOD:PUBLISH
X-ORIGINAL-URL:https://mowday.com
X-WR-CALDESC:Events for Bruce E. Mowday
REFRESH-INTERVAL;VALUE=DURATION:PT1H
X-Robots-Tag:noindex
X-PUBLISHED-TTL:PT1H
BEGIN:VTIMEZONE
TZID:America/New_York
BEGIN:DAYLIGHT
TZOFFSETFROM:-0500
TZOFFSETTO:-0400
TZNAME:EDT
DTSTART:20240310T070000
END:DAYLIGHT
BEGIN:STANDARD
TZOFFSETFROM:-0400
TZOFFSETTO:-0500
TZNAME:EST
DTSTART:20241103T060000
END:STANDARD
BEGIN:DAYLIGHT
TZOFFSETFROM:-0500
TZOFFSETTO:-0400
TZNAME:EDT
DTSTART:20250309T070000
END:DAYLIGHT
BEGIN:STANDARD
TZOFFSETFROM:-0400
TZOFFSETTO:-0500
TZNAME:EST
DTSTART:20251102T060000
END:STANDARD
BEGIN:DAYLIGHT
TZOFFSETFROM:-0500
TZOFFSETTO:-0400
TZNAME:EDT
DTSTART:20260308T070000
END:DAYLIGHT
BEGIN:STANDARD
TZOFFSETFROM:-0400
TZOFFSETTO:-0500
TZNAME:EST
DTSTART:20261101T060000
END:STANDARD
END:VTIMEZONE
BEGIN:VEVENT
DTSTART;TZID=America/New_York:20250526T100000
DTEND;TZID=America/New_York:20250526T140000
DTSTAMP:20260422T043604
CREATED:20250411T200037Z
LAST-MODIFIED:20250411T200037Z
UID:4018-1748253600-1748268000@mowday.com
SUMMARY:Author Bruce E. Mowday takes part in Memorial Day book signing in Gettysburg
DESCRIPTION:
URL:https://mowday.com/event/author-bruce-e-mowday-takes-part-in-memorial-day-book-signing-in-gettysburg/
LOCATION:Gettysburg Heritage Center and Museum\, 297 Steinwehr Avenue\, Gettysburg\,\, PA\, 17325\, United States
END:VEVENT
END:VCALENDAR