BEGIN:VCALENDAR
VERSION:2.0
PRODID:-//Bruce E. Mowday - ECPv6.15.15//NONSGML v1.0//EN
CALSCALE:GREGORIAN
METHOD:PUBLISH
X-ORIGINAL-URL:https://mowday.com
X-WR-CALDESC:Events for Bruce E. Mowday
REFRESH-INTERVAL;VALUE=DURATION:PT1H
X-Robots-Tag:noindex
X-PUBLISHED-TTL:PT1H
BEGIN:VTIMEZONE
TZID:America/New_York
BEGIN:DAYLIGHT
TZOFFSETFROM:-0500
TZOFFSETTO:-0400
TZNAME:EDT
DTSTART:20200308T070000
END:DAYLIGHT
BEGIN:STANDARD
TZOFFSETFROM:-0400
TZOFFSETTO:-0500
TZNAME:EST
DTSTART:20201101T060000
END:STANDARD
BEGIN:DAYLIGHT
TZOFFSETFROM:-0500
TZOFFSETTO:-0400
TZNAME:EDT
DTSTART:20210314T070000
END:DAYLIGHT
BEGIN:STANDARD
TZOFFSETFROM:-0400
TZOFFSETTO:-0500
TZNAME:EST
DTSTART:20211107T060000
END:STANDARD
BEGIN:DAYLIGHT
TZOFFSETFROM:-0500
TZOFFSETTO:-0400
TZNAME:EDT
DTSTART:20220313T070000
END:DAYLIGHT
BEGIN:STANDARD
TZOFFSETFROM:-0400
TZOFFSETTO:-0500
TZNAME:EST
DTSTART:20221106T060000
END:STANDARD
END:VTIMEZONE
BEGIN:VEVENT
DTSTART;TZID=America/New_York:20210331T170000
DTEND;TZID=America/New_York:20210331T180000
DTSTAMP:20260425T152355
CREATED:20201124T150020Z
LAST-MODIFIED:20201124T150020Z
UID:1803-1617210000-1617213600@mowday.com
SUMMARY:Barclay Friends hosts talk on Stealing Wyeth by Bruce Mowday
DESCRIPTION:
URL:https://mowday.com/event/barclay-friends-hosts-talk-on-stealing-wyeth-by-bruce-mowday/
LOCATION:Barclay Friends\, 700 North Franklin Street\, West Chester\, PA\, United States
END:VEVENT
END:VCALENDAR